BEGIN:VCALENDAR
VERSION:2.0
PRODID:-//Research Seminars//NONSGML Events//EN
CALSCALE:GREGORIAN
X-ORIGINAL-URL:https://calendar.med.wustl.edu/calendar/list/
X-WR-CALDESC:Research Seminars - Events
BEGIN:VEVENT
UID:20210204T2254Z-1612479258.9373-EO-25246-1@172.23.128.18
STATUS:CONFIRMED
DTSTAMP:20260425T074132Z
CREATED:20210204T225311Z
LAST-MODIFIED:20210204T225323Z
DTSTART;TZID=America/Chicago:20210429T160000
DTEND;TZID=America/Chicago:20210429T170000
SUMMARY: Center for Cardiovascular Research Seminar Series
DESCRIPTION: “Calcium and Cardiac Arrhythmia: From Mechanism to New Treatme
 nts”   Contact j.beasley@wustl.edu for Zoom information
X-ALT-DESC;FMTTYPE=text/html: <p>"Calcium and Cardiac Arrhythmia: From Mech
 anism to New Treatments"</p><p> </p><p>Contact j.beasley@wustl.edu for Zoom
  information</p>
CATEGORIES:Seminars / Lectures
LOCATION:Zoom
GEO:41.878114;-87.629798
ORGANIZER;CN="Jeanne":MAILTO:j.beasley@wustl.edu
URL;VALUE=URI:https://calendar.med.wustl.edu/calendar/event/25246/
END:VEVENT
BEGIN:VTIMEZONE
TZID:America/Chicago
BEGIN:DAYLIGHT
TZOFFSETFROM:-0600
TZOFFSETTO:-0500
DTSTART:20210314T080000
TZNAME:CDT
END:DAYLIGHT
END:VTIMEZONE
END:VCALENDAR
