BEGIN:VCALENDAR
VERSION:2.0
PRODID:-//Research Seminars//NONSGML Events//EN
CALSCALE:GREGORIAN
X-ORIGINAL-URL:https://calendar.med.wustl.edu/calendar/list/
X-WR-CALDESC:Research Seminars - Events
BEGIN:VEVENT
UID:20251223T2019Z-1766521198.0828-EO-32818-1@10.73.7.199
STATUS:CONFIRMED
DTSTAMP:20260424T071733Z
CREATED:20251223T201636Z
LAST-MODIFIED:20260106T222845Z
DTSTART;TZID=America/Chicago:20260303T103000
DTEND;TZID=America/Chicago:20260303T113000
SUMMARY: Biochemistry and Molecular Biophysics Seminar: Conor Caffrey\, PhD
  (UCSD)
DESCRIPTION: Department of Biochemistry & Molecular Biophysics WASHINGTON U
 NIVERSITY SCHOOL OF MEDICINE “Phenotypic- and target-based approaches to ne
 glected tropical disease drug discovery at UC San Diego” Conor Caffrey\, Ph
 .D. Professor of Pharmacy and Pharmaceutical Sciences University of Califor
 nia-San Diego Location: 264 McDonnell Sciences Date/Time: 3-Mar @ 10:30 a.m
 . CST Host: Jim Janetka
X-ALT-DESC;FMTTYPE=text/html: <p><strong>Department of Biochemistry & Molec
 ular Biophysics</strong><br />WASHINGTON UNIVERSITY SCHOOL OF MEDICINE</p><
 h5><em>“Phenotypic- and target-based approaches to neglected tropical disea
 se drug discovery at UC San Diego”</em></h5><p><strong>Conor Caffrey\, Ph.D
 .</strong><br />Professor of Pharmacy and Pharmaceutical Sciences<br />Univ
 ersity of California-San Diego</p><p>Location: 264 McDonnell Sciences<br />
 Date/Time: 3-Mar @ 10:30 a.m. CST</p><p>Host: Jim Janetka</p>
CATEGORIES:Invited External Speakers,Seminars / Lectures
LOCATION:McDonnell Sciences Building\, Room 264\, Biochemistry Seminar Room
GEO:38.634282;-90.262214
ORGANIZER;CN="Eric":MAILTO:e.eggers@wustl.edu
URL;VALUE=URI:https://calendar.med.wustl.edu/calendar/event/bmb_conorcaffre
 y_3-mar-26/
END:VEVENT
BEGIN:VTIMEZONE
TZID:America/Chicago
BEGIN:STANDARD
TZOFFSETFROM:-0500
TZOFFSETTO:-0600
DTSTART:20251102T070000
TZNAME:CST
END:STANDARD
END:VTIMEZONE
END:VCALENDAR
