BEGIN:VCALENDAR
VERSION:2.0
PRODID:-//Research Seminars//NONSGML Events//EN
CALSCALE:GREGORIAN
X-ORIGINAL-URL:https://calendar.med.wustl.edu/calendar/list/
X-WR-CALDESC:Research Seminars - Events
BEGIN:VEVENT
UID:20210928T1935Z-1632857732.7735-EO-26785-1@172.23.128.18
STATUS:CONFIRMED
DTSTAMP:20260421T143502Z
CREATED:20210928T193101Z
LAST-MODIFIED:20211208T154214Z
DTSTART;TZID=America/Chicago:20211209T160000
DTEND;TZID=America/Chicago:20211209T170000
SUMMARY: Ophthalmology and Visual Sciences Enoch Lecture
DESCRIPTION: “Optic Nerve Regeneration: Inflammatory Mediators and Transcri
 ptional Control”
X-ALT-DESC;FMTTYPE=text/html: <p><em><strong>"Optic Nerve Regeneration: Inf
 lammatory Mediators and Transcriptional Control"</strong></em></p>
CATEGORIES:Invited External Speakers,Seminars / Lectures
LOCATION:Zoom Platform - Online
GEO:38.621247;-90.252616
ORGANIZER;CN="Tracie":MAILTO:hughestraciem@wustl.edu
URL;VALUE=URI:https://calendar.med.wustl.edu/calendar/event/enoch-lecture/
END:VEVENT
BEGIN:VTIMEZONE
TZID:America/Chicago
BEGIN:STANDARD
TZOFFSETFROM:-0500
TZOFFSETTO:-0600
DTSTART:20211107T070000
TZNAME:CST
END:STANDARD
END:VTIMEZONE
END:VCALENDAR
