BEGIN:VCALENDAR
VERSION:2.0
PRODID:-//Research Seminars//NONSGML Events//EN
CALSCALE:GREGORIAN
X-ORIGINAL-URL:https://calendar.med.wustl.edu/calendar/list/
X-WR-CALDESC:Research Seminars - Events
BEGIN:VEVENT
UID:20240820T1850Z-1724179849.5587-EO-31934-1@10.24.106.144
STATUS:CONFIRMED
DTSTAMP:20260425T210125Z
CREATED:20240820T185019Z
LAST-MODIFIED:20240820T185019Z
DTSTART;TZID=America/Chicago:20241107T120000
DTEND;TZID=America/Chicago:20241107T130000
SUMMARY: Genetics Seminar Series
DESCRIPTION: Understanding the genetic basis of brain disorders through mac
 hine learning and comparative genomics Hosted by:  Dr. Yang Li In-person on
 ly:  Connor Auditorium (FLTC)
X-ALT-DESC;FMTTYPE=text/html: <h2><em><strong>Understanding the genetic bas
 is of brain disorders through machine learning and comparative genomics</st
 rong></em></h2><p><strong>Hosted by:</strong>  Dr. Yang Li<br /><strong>In-
 person only: </strong> Connor Auditorium (FLTC)</p>
CATEGORIES:Seminars / Lectures
LOCATION:Connor Auditorium\, Farrell Learning and Teaching Center
GEO:38.635021;-90.263078
ORGANIZER;CN="Michelle":MAILTO:gibbsm@wustl.edu
URL;VALUE=URI:https://calendar.med.wustl.edu/calendar/event/genetics-semina
 r-series-13/
END:VEVENT
BEGIN:VTIMEZONE
TZID:America/Chicago
BEGIN:STANDARD
TZOFFSETFROM:-0500
TZOFFSETTO:-0600
DTSTART:20241103T070000
TZNAME:CST
END:STANDARD
END:VTIMEZONE
END:VCALENDAR
