BEGIN:VCALENDAR
VERSION:2.0
PRODID:-//Research Seminars//NONSGML Events//EN
CALSCALE:GREGORIAN
X-ORIGINAL-URL:https://calendar.med.wustl.edu/calendar/list/
X-WR-CALDESC:Research Seminars - Events
BEGIN:VEVENT
UID:20210819T1723Z-1629393823.3727-EO-26302-1@172.23.128.19
STATUS:CONFIRMED
DTSTAMP:20260423T113712Z
CREATED:20210819T172317Z
LAST-MODIFIED:20210827T192909Z
DTSTART;TZID=America/Chicago:20210914T170000
DTEND;TZID=America/Chicago:20210914T180000
SUMMARY: GI Division Rounds: Devika Kapuria\, MD
DESCRIPTION: “Chemoprevention in Colorectal Cancer“ Speaker: Devika Kapuria
 \, MD Instructor in Medicine Please Contact Beth Buschard-Steiger for Zoom 
 Details
X-ALT-DESC;FMTTYPE=text/html: <h2 style="text-align: center\;">"<em>Chemopr
 evention in Colorectal Cancer</em>"</h2><h2 style="text-align: center\;">Sp
 eaker: Devika Kapuria\, MD</h2><h4 style="text-align: center\;">Instructor 
 in Medicine</h4><h4 style="text-align: center\;">Please Contact Beth Buscha
 rd-Steiger for Zoom Details</h4>
CATEGORIES:Div. Grand Rounds
LOCATION:Zoom
GEO:41.878114;-87.629798
ORGANIZER;CN="Scott":MAILTO:bosso.scott@wustl.edu
URL;VALUE=URI:https://calendar.med.wustl.edu/calendar/event/gi-division-rou
 nds-devika-kapuria-md/
END:VEVENT
BEGIN:VTIMEZONE
TZID:America/Chicago
BEGIN:DAYLIGHT
TZOFFSETFROM:-0600
TZOFFSETTO:-0500
DTSTART:20210314T080000
TZNAME:CDT
END:DAYLIGHT
END:VTIMEZONE
END:VCALENDAR
