BEGIN:VCALENDAR
VERSION:2.0
PRODID:-//Research Seminars//NONSGML Events//EN
CALSCALE:GREGORIAN
X-ORIGINAL-URL:https://calendar.med.wustl.edu/calendar/list/
X-WR-CALDESC:Research Seminars - Events
BEGIN:VEVENT
UID:20220215T1526Z-1644938785.7582-EO-28157-1@172.23.128.18
STATUS:CONFIRMED
DTSTAMP:20260424T122132Z
CREATED:20220215T151847Z
LAST-MODIFIED:20220215T151847Z
DTSTART;TZID=America/Chicago:20220308T121000
DTEND;TZID=America/Chicago:20220308T125500
SUMMARY: Program in Physical Therapy Research Seminar
DESCRIPTION: “Translation of in-clinic gains to gains in daily life after s
 troke” This seminar is provided online. To receive an invitation to this se
 minar and future seminars\, please fill out the request form.
X-ALT-DESC;FMTTYPE=text/html: <p>"Translation of in-clinic gains to gains i
 n daily life after stroke"</p><p>This seminar is provided online. To receiv
 e an invitation to this seminar and future seminars\, please fill out the <
 a href="https://pt.wustl.edu/education/continuing-education-for-clinical-in
 structors/research-seminar-videos-ceus/research-seminar-invitation-request/
 ">request form</a>.</p>
CATEGORIES:Seminars / Lectures
ORGANIZER;CN="Denee":MAILTO:denee@wustl.edu
URL;VALUE=URI:https://calendar.med.wustl.edu/calendar/event/program-in-phys
 ical-therapy-research-seminar-28/
END:VEVENT
BEGIN:VTIMEZONE
TZID:America/Chicago
BEGIN:STANDARD
TZOFFSETFROM:-0500
TZOFFSETTO:-0600
DTSTART:20211107T070000
TZNAME:CST
END:STANDARD
END:VTIMEZONE
END:VCALENDAR
