BEGIN:VCALENDAR
VERSION:2.0
PRODID:-//Research Seminars//NONSGML Events//EN
CALSCALE:GREGORIAN
X-ORIGINAL-URL:https://calendar.med.wustl.edu/calendar/list/
X-WR-CALDESC:Research Seminars - Events
BEGIN:VEVENT
UID:20220215T1526Z-1644938785.788-EO-28160-1@172.23.128.18
STATUS:CONFIRMED
DTSTAMP:20260424T074256Z
CREATED:20220215T152245Z
LAST-MODIFIED:20220215T152245Z
DTSTART;TZID=America/Chicago:20220322T121000
DTEND;TZID=America/Chicago:20220322T125500
SUMMARY: Program in Physical Therapy Research Seminar
DESCRIPTION: “Fat-Muscle Signaling: The good\, the bad\, and the beige” Thi
 s seminar is provided online. To receive an invitation to this seminar and 
 future seminars\, please fill out the request form.
X-ALT-DESC;FMTTYPE=text/html: <p>"Fat-Muscle Signaling: The good\, the bad\
 , and the beige"</p><p>This seminar is provided online. To receive an invit
 ation to this seminar and future seminars\, please fill out the <a href="ht
 tps://pt.wustl.edu/education/continuing-education-for-clinical-instructors/
 research-seminar-videos-ceus/research-seminar-invitation-request/">request 
 form</a>.</p>
CATEGORIES:Seminars / Lectures
ORGANIZER;CN="Denee":MAILTO:denee@wustl.edu
URL;VALUE=URI:https://calendar.med.wustl.edu/calendar/event/program-in-phys
 ical-therapy-research-seminar-29/
END:VEVENT
BEGIN:VTIMEZONE
TZID:America/Chicago
BEGIN:DAYLIGHT
TZOFFSETFROM:-0600
TZOFFSETTO:-0500
DTSTART:20220313T080000
TZNAME:CDT
END:DAYLIGHT
END:VTIMEZONE
END:VCALENDAR
