BEGIN:VCALENDAR
VERSION:2.0
PRODID:-//Research Seminars//NONSGML Events//EN
CALSCALE:GREGORIAN
X-ORIGINAL-URL:https://calendar.med.wustl.edu/calendar/list/
X-WR-CALDESC:Research Seminars - Events
BEGIN:VEVENT
UID:20220802T1628Z-1659457703.6839-EO-29281-1@172.23.128.19
STATUS:CONFIRMED
DTSTAMP:20260424T110102Z
CREATED:20220802T162713Z
LAST-MODIFIED:20220802T162713Z
DTSTART;TZID=America/Chicago:20220906T121000
DTEND;TZID=America/Chicago:20220906T125500
SUMMARY: Program in Physical Therapy Research Seminar
DESCRIPTION: “Treatment of chronic uncompensated unilateral vestibular loss
 : A return to work focus” This seminar is provided online. To receive an in
 vitation to this seminar and future seminars\, please fill out the request 
 form.
X-ALT-DESC;FMTTYPE=text/html: <p>"Treatment of chronic uncompensated unilat
 eral vestibular loss: A return to work focus"</p><p>This seminar is provide
 d online. To receive an invitation to this seminar and future seminars\, pl
 ease fill out the <a href="https://pt.wustl.edu/education/continuing-educat
 ion-for-clinical-instructors/research-seminar-videos-ceus/research-seminar-
 invitation-request/">request form</a>.</p>
CATEGORIES:Seminars / Lectures
ORGANIZER;CN="Denee":MAILTO:denee@wustl.edu
URL;VALUE=URI:https://calendar.med.wustl.edu/calendar/event/program-in-phys
 ical-therapy-research-seminar-32/
END:VEVENT
BEGIN:VTIMEZONE
TZID:America/Chicago
BEGIN:DAYLIGHT
TZOFFSETFROM:-0600
TZOFFSETTO:-0500
DTSTART:20220313T080000
TZNAME:CDT
END:DAYLIGHT
END:VTIMEZONE
END:VCALENDAR
