BEGIN:VCALENDAR
VERSION:2.0
PRODID:-//Research Seminars//NONSGML Events//EN
CALSCALE:GREGORIAN
X-ORIGINAL-URL:https://calendar.med.wustl.edu/calendar/list/
X-WR-CALDESC:Research Seminars - Events
BEGIN:VEVENT
UID:20220802T1640Z-1659458440.0911-EO-29284-1@172.23.128.18
STATUS:CONFIRMED
DTSTAMP:20260424T014700Z
CREATED:20220802T162939Z
LAST-MODIFIED:20220802T162939Z
DTSTART;TZID=America/Chicago:20220920T121000
DTEND;TZID=America/Chicago:20220920T125500
SUMMARY: Program in Physical Therapy Research Seminar
DESCRIPTION: “Designing Interventions for Implementation” This seminar is p
 rovided online. To receive an invitation to this seminar and future seminar
 s\, please fill out the request form.
X-ALT-DESC;FMTTYPE=text/html: <p>"Designing Interventions for Implementatio
 n"</p><p>This seminar is provided online. To receive an invitation to this 
 seminar and future seminars\, please fill out the <a href="https://pt.wustl
 .edu/education/continuing-education-for-clinical-instructors/research-semin
 ar-videos-ceus/research-seminar-invitation-request/">request form</a>.</p>
CATEGORIES:Seminars / Lectures
ORGANIZER;CN="Denee":MAILTO:denee@wustl.edu
URL;VALUE=URI:https://calendar.med.wustl.edu/calendar/event/program-in-phys
 ical-therapy-research-seminar-33/
END:VEVENT
BEGIN:VTIMEZONE
TZID:America/Chicago
BEGIN:DAYLIGHT
TZOFFSETFROM:-0600
TZOFFSETTO:-0500
DTSTART:20220313T080000
TZNAME:CDT
END:DAYLIGHT
END:VTIMEZONE
END:VCALENDAR
