BEGIN:VCALENDAR
VERSION:2.0
PRODID:-//Research Seminars//NONSGML Events//EN
CALSCALE:GREGORIAN
X-ORIGINAL-URL:https://calendar.med.wustl.edu/calendar/list/
X-WR-CALDESC:Research Seminars - Events
BEGIN:VEVENT
UID:20220802T1710Z-1659460242.6084-EO-29290-1@172.23.128.18
STATUS:CONFIRMED
DTSTAMP:20260422T132525Z
CREATED:20220802T164618Z
LAST-MODIFIED:20220802T164618Z
DTSTART;TZID=America/Chicago:20221101T121000
DTEND;TZID=America/Chicago:20221101T125500
SUMMARY: Program in Physical Therapy Research Seminar
DESCRIPTION: “Integrating pain and movement science to advance clinical pra
 ctice” This seminar is provided online. To receive an invitation to this se
 minar and future seminars\, please fill out the request form.
X-ALT-DESC;FMTTYPE=text/html: <p>"Integrating pain and movement science to 
 advance clinical practice"</p><p>This seminar is provided online. To receiv
 e an invitation to this seminar and future seminars\, please fill out the <
 a href="https://pt.wustl.edu/education/continuing-education-for-clinical-in
 structors/research-seminar-videos-ceus/research-seminar-invitation-request/
 ">request form</a>.</p>
CATEGORIES:Seminars / Lectures
ORGANIZER;CN="Denee":MAILTO:denee@wustl.edu
URL;VALUE=URI:https://calendar.med.wustl.edu/calendar/event/program-in-phys
 ical-therapy-research-seminar-35/
END:VEVENT
BEGIN:VTIMEZONE
TZID:America/Chicago
BEGIN:DAYLIGHT
TZOFFSETFROM:-0600
TZOFFSETTO:-0500
DTSTART:20220313T080000
TZNAME:CDT
END:DAYLIGHT
END:VTIMEZONE
END:VCALENDAR
