BEGIN:VCALENDAR
VERSION:2.0
PRODID:-//Research Seminars//NONSGML Events//EN
CALSCALE:GREGORIAN
X-ORIGINAL-URL:https://calendar.med.wustl.edu/calendar/list/
X-WR-CALDESC:Research Seminars - Events
BEGIN:VEVENT
UID:20211222T2010Z-1640203859.018-EO-27512-1@172.23.128.18
STATUS:CONFIRMED
DTSTAMP:20260424T183357Z
CREATED:20211222T200813Z
LAST-MODIFIED:20220120T215519Z
DTSTART;TZID=America/Chicago:20220127T120000
DTEND;TZID=America/Chicago:20220127T130000
SUMMARY: SPECIAL GENETICS SEMINAR
DESCRIPTION: Webinar link: https://wustl-hipaa.zoom.us/j/94367220300 Semina
 r title: Cardioinformatics approaches for drug discovery
X-ALT-DESC;FMTTYPE=text/html: <p>Webinar link: https://wustl-hipaa.zoom.us/
 j/94367220300</p><p>Seminar title: Cardioinformatics approaches for drug di
 scovery</p>
CATEGORIES:Faculty Candidate Seminar,Seminars / Lectures
ORGANIZER;CN="Deborah":MAILTO:debbie@wustl.edu
URL;VALUE=URI:https://calendar.med.wustl.edu/calendar/event/special-genetic
 s-seminar/
END:VEVENT
BEGIN:VTIMEZONE
TZID:America/Chicago
BEGIN:STANDARD
TZOFFSETFROM:-0500
TZOFFSETTO:-0600
DTSTART:20211107T070000
TZNAME:CST
END:STANDARD
END:VTIMEZONE
END:VCALENDAR
