BEGIN:VCALENDAR
VERSION:2.0
PRODID:-//Research Seminars//NONSGML Events//EN
CALSCALE:GREGORIAN
X-ORIGINAL-URL:https://calendar.med.wustl.edu/calendar/list/
X-WR-CALDESC:Research Seminars - Events
BEGIN:VEVENT
UID:20260303T2232Z-1772577123.1826-EO-32952-1@10.73.7.199
STATUS:CONFIRMED
DTSTAMP:20260424T071740Z
CREATED:20260303T222756Z
LAST-MODIFIED:20260303T222941Z
DTSTART;TZID=America/Chicago:20260316T130000
DTEND;TZID=America/Chicago:20260316T140000
SUMMARY: Special Seminar\, Eric Ortlund\, PhD
DESCRIPTION: “Targeting a lipid signaling axis to develop anti-inflammatory
  agents and leveraging deep mutational scanning for antibody evaluation and
  design” Ortlund_March16 Dr. Ben Garcia is the host for this seminar. A zoo
 m link is also available please contact asmith41@wustl.edu
X-ALT-DESC;FMTTYPE=text/html: <p>“Targeting a lipid signaling axis to devel
 op anti-inflammatory agents and leveraging deep mutational scanning for ant
 ibody evaluation and design”</p><p><a href="https://calendar.med.wustl.edu/
 app/uploads/2026/03/Ortlund_March16.pdf">Ortlund_March16</a></p><p>Dr. Ben 
 Garcia is the host for this seminar.</p><p>A zoom link is also available pl
 ease contact asmith41@wustl.edu</p>
LOCATION:EPNEC Center\, Seminar Room B
GEO:38.636879;-90.262400
ORGANIZER;CN="Amy":MAILTO:asmith41@wustl.edu
URL;VALUE=URI:https://calendar.med.wustl.edu/calendar/event/special-seminar
 -5/
END:VEVENT
BEGIN:VTIMEZONE
TZID:America/Chicago
BEGIN:DAYLIGHT
TZOFFSETFROM:-0600
TZOFFSETTO:-0500
DTSTART:20260308T080000
TZNAME:CDT
END:DAYLIGHT
END:VTIMEZONE
END:VCALENDAR
