BEGIN:VCALENDAR
VERSION:2.0
PRODID:-//Research Seminars//NONSGML Events//EN
CALSCALE:GREGORIAN
X-ORIGINAL-URL:https://calendar.med.wustl.edu/calendar/list/
X-WR-CALDESC:Research Seminars - Events
BEGIN:VEVENT
UID:20210712T1519Z-1626103179.7786-EO-26101-1@172.23.128.18
STATUS:CONFIRMED
DTSTAMP:20260425T023356Z
CREATED:20210712T151142Z
LAST-MODIFIED:20210712T151142Z
DTSTART;TZID=America/Chicago:20210727T120000
DTEND;TZID=America/Chicago:20210727T130000
SUMMARY: **SPECIAL SEMINAR**
DESCRIPTION: “Advanced chromatin profiling approaches for understanding dev
 elopment and disease” Zoom webinar: https://wustl-hipaa.zoom.us/j/962004274
 98
X-ALT-DESC;FMTTYPE=text/html: <p>“Advanced chromatin profiling approaches f
 or understanding development and disease”</p><p>Zoom webinar: https://wustl
 -hipaa.zoom.us/j/96200427498</p>
CATEGORIES:Faculty Candidate Seminar,Seminars / Lectures
ORGANIZER;CN="Deborah":MAILTO:debbie@wustl.edu
URL;VALUE=URI:https://calendar.med.wustl.edu/calendar/event/special-seminar
 -6/
END:VEVENT
BEGIN:VTIMEZONE
TZID:America/Chicago
BEGIN:DAYLIGHT
TZOFFSETFROM:-0600
TZOFFSETTO:-0500
DTSTART:20210314T080000
TZNAME:CDT
END:DAYLIGHT
END:VTIMEZONE
END:VCALENDAR
