BEGIN:VCALENDAR
VERSION:2.0
PRODID:-//Research Seminars//NONSGML Events//EN
CALSCALE:GREGORIAN
X-ORIGINAL-URL:https://calendar.med.wustl.edu/calendar/list/
X-WR-CALDESC:Research Seminars - Events
BEGIN:VEVENT
UID:20200814T1737Z-1597426671.0543-EO-23162-1@172.23.128.18
STATUS:CONFIRMED
DTSTAMP:20260425T181845Z
CREATED:20200814T172738Z
LAST-MODIFIED:20200814T172738Z
DTSTART;TZID=America/Chicago:20210422T160000
DTEND;TZID=America/Chicago:20210422T170000
SUMMARY: Vision Science Seminar
X-ALT-DESC;FMTTYPE=text/html: 
CATEGORIES:Invited External Speakers,Seminars / Lectures
LOCATION:Zoom
GEO:41.878114;-87.629798
ORGANIZER;CN="Macey":MAILTO:macey.alexander@wustl.edu
URL;VALUE=URI:https://calendar.med.wustl.edu/calendar/event/vision-science-
 seminar-41/
END:VEVENT
BEGIN:VTIMEZONE
TZID:America/Chicago
BEGIN:DAYLIGHT
TZOFFSETFROM:-0600
TZOFFSETTO:-0500
DTSTART:20210314T080000
TZNAME:CDT
END:DAYLIGHT
END:VTIMEZONE
END:VCALENDAR
