BEGIN:VCALENDAR
VERSION:2.0
PRODID:-//Research Seminars//NONSGML Events//EN
CALSCALE:GREGORIAN
X-ORIGINAL-URL:https://calendar.med.wustl.edu/calendar/list/
X-WR-CALDESC:Research Seminars - Events
BEGIN:VEVENT
UID:20210902T2117Z-1630617471.8398-EO-26401-1@172.23.128.19
STATUS:CONFIRMED
DTSTAMP:20260423T223434Z
CREATED:20210902T210109Z
LAST-MODIFIED:20210902T210109Z
DTSTART;TZID=America/Chicago:20210909T100000
DTEND;TZID=America/Chicago:20210909T110000
SUMMARY: Vision Science Seminar
DESCRIPTION: Title: “New Insights into CNS Immune Surveillance”
X-ALT-DESC;FMTTYPE=text/html: <p><em>Title: "New Insights into CNS Immune S
 urveillance"</em></p>
CATEGORIES:Seminars / Lectures
LOCATION:McMillan\, DOVS conference room\, 7th Floor (725 Maternity)
GEO:38.636530;-90.264225
ORGANIZER;CN="Tracie":MAILTO:hughestraciem@wustl.edu
URL;VALUE=URI:https://calendar.med.wustl.edu/calendar/event/vision-science-
 seminar-45/
END:VEVENT
BEGIN:VTIMEZONE
TZID:America/Chicago
BEGIN:DAYLIGHT
TZOFFSETFROM:-0600
TZOFFSETTO:-0500
DTSTART:20210314T080000
TZNAME:CDT
END:DAYLIGHT
END:VTIMEZONE
END:VCALENDAR
