BEGIN:VCALENDAR
VERSION:2.0
PRODID:-//Research Seminars//NONSGML Events//EN
CALSCALE:GREGORIAN
X-ORIGINAL-URL:https://calendar.med.wustl.edu/calendar/list/
X-WR-CALDESC:Research Seminars - Events
BEGIN:VEVENT
UID:20210928T1725Z-1632849920.708-EO-26761-1@172.23.128.18
STATUS:CONFIRMED
DTSTAMP:20260424T023647Z
CREATED:20210928T172405Z
LAST-MODIFIED:20210928T172405Z
DTSTART;TZID=America/Chicago:20211007T100000
DTEND;TZID=America/Chicago:20211007T110000
SUMMARY: Vision Science Seminar
DESCRIPTION: Title: “Vision From Dendrites to Pathways”
X-ALT-DESC;FMTTYPE=text/html: <p><strong>Title: <em>"Vision From Dendrites 
 to Pathways"</em></strong></p>
CATEGORIES:Seminars / Lectures
LOCATION:McMillan\, DOVS conference room\, 7th Floor (725 Maternity)
GEO:38.636530;-90.264225
ORGANIZER;CN="Tracie":MAILTO:hughestraciem@wustl.edu
URL;VALUE=URI:https://calendar.med.wustl.edu/calendar/event/vision-science-
 seminar-46/
END:VEVENT
BEGIN:VTIMEZONE
TZID:America/Chicago
BEGIN:DAYLIGHT
TZOFFSETFROM:-0600
TZOFFSETTO:-0500
DTSTART:20210314T080000
TZNAME:CDT
END:DAYLIGHT
END:VTIMEZONE
END:VCALENDAR
