BEGIN:VCALENDAR
VERSION:2.0
PRODID:-//Research Seminars//NONSGML Events//EN
CALSCALE:GREGORIAN
X-ORIGINAL-URL:https://calendar.med.wustl.edu/calendar/list/
X-WR-CALDESC:Research Seminars - Events
BEGIN:VEVENT
UID:20210928T1850Z-1632855028.4704-EO-26764-1@172.23.128.18
STATUS:CONFIRMED
DTSTAMP:20260424T110954Z
CREATED:20210928T184747Z
LAST-MODIFIED:20210928T184747Z
DTSTART;TZID=America/Chicago:20211014T100000
DTEND;TZID=America/Chicago:20211014T110000
SUMMARY: Vision Science Seminar
DESCRIPTION: Title: TBA
X-ALT-DESC;FMTTYPE=text/html: <p><em><strong>Title: TBA</strong></em></p>
CATEGORIES:Seminars / Lectures
LOCATION:McMillan\, DOVS conference room\, 7th Floor (725 Maternity)
GEO:38.636530;-90.264225
ORGANIZER;CN="Tracie":MAILTO:hughestraciem@wustl.edu
URL;VALUE=URI:https://calendar.med.wustl.edu/calendar/event/vision-science-
 seminar-47/
END:VEVENT
BEGIN:VTIMEZONE
TZID:America/Chicago
BEGIN:DAYLIGHT
TZOFFSETFROM:-0600
TZOFFSETTO:-0500
DTSTART:20210314T080000
TZNAME:CDT
END:DAYLIGHT
END:VTIMEZONE
END:VCALENDAR
