BEGIN:VCALENDAR
VERSION:2.0
PRODID:-//Research Seminars//NONSGML Events//EN
CALSCALE:GREGORIAN
X-ORIGINAL-URL:https://calendar.med.wustl.edu/calendar/list/
X-WR-CALDESC:Research Seminars - Events
BEGIN:VEVENT
UID:20210928T1854Z-1632855274.167-EO-26770-1@172.23.128.18
STATUS:CONFIRMED
DTSTAMP:20260422T132002Z
CREATED:20210928T185251Z
LAST-MODIFIED:20210928T185251Z
DTSTART;TZID=America/Chicago:20211028T100000
DTEND;TZID=America/Chicago:20211028T110000
SUMMARY: Vision Science Seminar
DESCRIPTION: Title: TBA
X-ALT-DESC;FMTTYPE=text/html: <p>Title: TBA</p>
LOCATION:Maternity Hospital 7th Floor Conference Room #725
GEO:38.635437;-90.263318
ORGANIZER;CN="Tracie":MAILTO:hughestraciem@wustl.edu
URL;VALUE=URI:https://calendar.med.wustl.edu/calendar/event/vision-science-
 seminar-49/
END:VEVENT
BEGIN:VTIMEZONE
TZID:America/Chicago
BEGIN:DAYLIGHT
TZOFFSETFROM:-0600
TZOFFSETTO:-0500
DTSTART:20210314T080000
TZNAME:CDT
END:DAYLIGHT
END:VTIMEZONE
END:VCALENDAR
