BEGIN:VCALENDAR
VERSION:2.0
PRODID:-//Research Seminars//NONSGML Events//EN
CALSCALE:GREGORIAN
X-ORIGINAL-URL:https://calendar.med.wustl.edu/calendar/list/
X-WR-CALDESC:Research Seminars - Events
BEGIN:VEVENT
UID:20210928T1929Z-1632857347.3501-EO-26779-1@172.23.128.18
STATUS:CONFIRMED
DTSTAMP:20260424T000819Z
CREATED:20210928T191854Z
LAST-MODIFIED:20210928T192418Z
DTSTART;TZID=America/Chicago:20211202T100000
DTEND;TZID=America/Chicago:20211202T110000
SUMMARY: Vision Science Seminar
DESCRIPTION: Title: TBA
X-ALT-DESC;FMTTYPE=text/html: <p>Title: TBA</p>
CATEGORIES:Seminars / Lectures
LOCATION:McMillan\, DOVS conference room\, 7th Floor (725 Maternity)
GEO:38.636530;-90.264225
ORGANIZER;CN="Tracie":MAILTO:hughestraciem@wustl.edu
URL;VALUE=URI:https://calendar.med.wustl.edu/calendar/event/vision-science-
 seminar-52/
END:VEVENT
BEGIN:VTIMEZONE
TZID:America/Chicago
BEGIN:STANDARD
TZOFFSETFROM:-0500
TZOFFSETTO:-0600
DTSTART:20211107T070000
TZNAME:CST
END:STANDARD
END:VTIMEZONE
END:VCALENDAR
