BEGIN:VCALENDAR
VERSION:2.0
PRODID:-//Research Seminars//NONSGML Events//EN
CALSCALE:GREGORIAN
X-ORIGINAL-URL:https://calendar.med.wustl.edu/calendar/list/
X-WR-CALDESC:Research Seminars - Events
BEGIN:VEVENT
UID:20210928T1935Z-1632857732.7839-EO-26788-1@172.23.128.18
STATUS:CONFIRMED
DTSTAMP:20260422T125907Z
CREATED:20210928T193416Z
LAST-MODIFIED:20211208T151751Z
DTSTART;TZID=America/Chicago:20211216T100000
DTEND;TZID=America/Chicago:20211216T110000
SUMMARY: Vision Science Seminar
DESCRIPTION: “Photoreceptor Metabolism in the Development of Diabetic Retin
 opathy”
X-ALT-DESC;FMTTYPE=text/html: <p><em><strong>"Photoreceptor Metabolism in t
 he Development of Diabetic Retinopathy"</strong></em></p>
CATEGORIES:Seminars / Lectures
LOCATION:Maternity Hospital 7th Floor Conference Room #725
GEO:38.635437;-90.263318
ORGANIZER;CN="Tracie":MAILTO:hughestraciem@wustl.edu
URL;VALUE=URI:https://calendar.med.wustl.edu/calendar/event/vision-science-
 seminar-53/
END:VEVENT
BEGIN:VTIMEZONE
TZID:America/Chicago
BEGIN:STANDARD
TZOFFSETFROM:-0500
TZOFFSETTO:-0600
DTSTART:20211107T070000
TZNAME:CST
END:STANDARD
END:VTIMEZONE
END:VCALENDAR
