BEGIN:VCALENDAR
VERSION:2.0
PRODID:-//Research Seminars//NONSGML Events//EN
CALSCALE:GREGORIAN
X-ORIGINAL-URL:https://calendar.med.wustl.edu/calendar/list/
X-WR-CALDESC:Research Seminars - Events
BEGIN:VEVENT
UID:20240118T1804Z-1705601068.0009-EO-31577-1@172.23.128.18
STATUS:CONFIRMED
DTSTAMP:20260424T213000Z
CREATED:20240118T180329Z
LAST-MODIFIED:20240125T195219Z
DTSTART;TZID=America/Chicago:20240425T100000
DTEND;TZID=America/Chicago:20240425T110000
SUMMARY: Vision Science Seminar
DESCRIPTION: Vision Science Seminar Talk Title TBA Elizabeth Pollina\, PhD 
 Assistant Professor of Developmental Biology WUSTL  
X-ALT-DESC;FMTTYPE=text/html: <h2 style="text-align: center\;">Vision Scien
 ce Seminar</h2><blockquote><p>Talk Title TBA</p></blockquote><h4 style="tex
 t-align: center\;"><a href="https://developmentalbiology.wustl.edu/people/e
 lizabeth-pollina-ph-d/">Elizabeth Pollina\, PhD</a></h4><h4 style="text-ali
 gn: center\;">Assistant Professor of Developmental Biology</h4><h4 style="t
 ext-align: center\;">WUSTL</h4><p> </p>
CATEGORIES:Seminars / Lectures
LOCATION:Bernard Becker Medical Library\, Becker Classroom 405
GEO:38.634745;-90.262682
ORGANIZER;CN="Marion":MAILTO:mariont@wustl.edu
URL;VALUE=URI:https://calendar.med.wustl.edu/calendar/event/vision-science-
 seminar-75/
END:VEVENT
BEGIN:VTIMEZONE
TZID:America/Chicago
BEGIN:DAYLIGHT
TZOFFSETFROM:-0600
TZOFFSETTO:-0500
DTSTART:20240310T080000
TZNAME:CDT
END:DAYLIGHT
END:VTIMEZONE
END:VCALENDAR
