BEGIN:VCALENDAR
VERSION:2.0
PRODID:-//Research Seminars//NONSGML Events//EN
CALSCALE:GREGORIAN
X-ORIGINAL-URL:https://calendar.med.wustl.edu/calendar/list/
X-WR-CALDESC:Research Seminars - Events
BEGIN:VEVENT
UID:20240118T1815Z-1705601704.3873-EO-31578-1@172.23.128.18
STATUS:CONFIRMED
DTSTAMP:20260424T225938Z
CREATED:20240118T181429Z
LAST-MODIFIED:20240424T001249Z
DTSTART;TZID=America/Chicago:20240502T100000
DTEND;TZID=America/Chicago:20240502T110000
SUMMARY: Vision Science Seminar
DESCRIPTION: Vision Science Seminar “”Targeting the Nrl-Nr2e3 pathway to pr
 event photoreceptor degeneration” Joseph Corbo\, MD\, PhD Professor\, Patho
 logy & Immunology WUSTL  
X-ALT-DESC;FMTTYPE=text/html: <h2 style="text-align: center\;">Vision Scien
 ce Seminar</h2><blockquote><p>""Targeting the Nrl-Nr2e3 pathway to prevent 
 photoreceptor degeneration"</p></blockquote><h4 style="text-align: center\;
 "><a href="https://pathology.wustl.edu/people/joseph-corbo-md-phd/">Joseph 
 Corbo\, MD\, PhD</a></h4><h4 style="text-align: center\;">Professor\, Patho
 logy & Immunology</h4><h4 style="text-align: center\;">WUSTL</h4><p> </p>
CATEGORIES:Seminars / Lectures
LOCATION:Bernard Becker Medical Library\, Becker Classroom 405
GEO:38.634745;-90.262682
ORGANIZER;CN="Marion":MAILTO:mariont@wustl.edu
URL;VALUE=URI:https://calendar.med.wustl.edu/calendar/event/vision-science-
 seminar-76/
END:VEVENT
BEGIN:VTIMEZONE
TZID:America/Chicago
BEGIN:DAYLIGHT
TZOFFSETFROM:-0600
TZOFFSETTO:-0500
DTSTART:20240310T080000
TZNAME:CDT
END:DAYLIGHT
END:VTIMEZONE
END:VCALENDAR
