BEGIN:VCALENDAR
VERSION:2.0
PRODID:-//Research Seminars//NONSGML Events//EN
CALSCALE:GREGORIAN
X-ORIGINAL-URL:https://calendar.med.wustl.edu/calendar/list/
X-WR-CALDESC:Research Seminars - Events
BEGIN:VEVENT
UID:20241105T2013Z-1730837609.0166-EO-32184-1@10.24.106.144
STATUS:CONFIRMED
DTSTAMP:20260424T092518Z
CREATED:20241105T200753Z
LAST-MODIFIED:20241112T212329Z
DTSTART;TZID=America/Chicago:20241121T100000
DTEND;TZID=America/Chicago:20241121T110000
SUMMARY: Vision Science Seminar
DESCRIPTION: Vision Science Seminar “Inflammation and Metabolism in Regulat
 ing Retinal Disease” Presented by Rajendra S. Apte\, MD\, PhD Paul A. Cibis
  Distinguished Professor of Ophthalmology and Visual Sciences WUSTL
X-ALT-DESC;FMTTYPE=text/html: <h3 style="text-align: center\;">Vision Scien
 ce Seminar</h3><blockquote><p>"Inflammation and Metabolism in</p><p>Regulat
 ing Retinal Disease"</p></blockquote><p style="text-align: center\;">Presen
 ted by</p><p style="text-align: center\;"><a href="https://physicians.wustl
 .edu/people/rajendra-s-apte-md-phd/">Rajendra S. Apte\, MD\, PhD</a></p><p 
 style="text-align: center\;">Paul A. Cibis Distinguished Professor of Ophth
 almology and Visual Sciences</p><p style="text-align: center\;">WUSTL</p>
CATEGORIES:Seminars / Lectures
LOCATION:Mid-Campus Center (MCC)\, Room 1404
GEO:38.636224;-90.261931
ORGANIZER;CN="Marion":MAILTO:mariont@wustl.edu
URL;VALUE=URI:https://calendar.med.wustl.edu/calendar/event/vision-science-
 seminar-82/
END:VEVENT
BEGIN:VTIMEZONE
TZID:America/Chicago
BEGIN:STANDARD
TZOFFSETFROM:-0500
TZOFFSETTO:-0600
DTSTART:20241103T070000
TZNAME:CST
END:STANDARD
END:VTIMEZONE
END:VCALENDAR
