BEGIN:VCALENDAR
VERSION:2.0
PRODID:-//Research Seminars//NONSGML Events//EN
CALSCALE:GREGORIAN
X-ORIGINAL-URL:https://calendar.med.wustl.edu/calendar/list/
X-WR-CALDESC:Research Seminars - Events
BEGIN:VEVENT
UID:20241105T2013Z-1730837610.1723-EO-32185-1@10.24.106.144
STATUS:CONFIRMED
DTSTAMP:20260424T090017Z
CREATED:20241105T201014Z
LAST-MODIFIED:20241107T200640Z
DTSTART;TZID=America/Chicago:20241205T100000
DTEND;TZID=America/Chicago:20241205T110000
SUMMARY: Vision Science Seminar
DESCRIPTION: Vision Science Seminar “Structural and Functional Insights int
 o Kir7.1 Regulation by Steroids and Bioactive Lipids” Presented by Polina L
 ishko\, PhD Professor of Cell Biology & Physiology WUSTL
X-ALT-DESC;FMTTYPE=text/html: <h3 style="text-align: center\;">Vision Scien
 ce Seminar</h3><blockquote><p>"Structural and Functional Insights into Kir7
 .1 Regulation by Steroids and Bioactive Lipids"</p></blockquote><p style="t
 ext-align: center\;">Presented by</p><p style="text-align: center\;"><a hre
 f="https://cellbiology.wustl.edu/people/polina-lishko-phd/">Polina Lishko\,
  PhD</a></p><p style="text-align: center\;">Professor of Cell Biology & Phy
 siology</p><p style="text-align: center\;">WUSTL</p>
CATEGORIES:Seminars / Lectures
LOCATION:Mid-Campus Center (MCC)\, Room 1404
GEO:38.636224;-90.261931
ORGANIZER;CN="Marion":MAILTO:mariont@wustl.edu
URL;VALUE=URI:https://calendar.med.wustl.edu/calendar/event/vision-science-
 seminar-83/
END:VEVENT
BEGIN:VTIMEZONE
TZID:America/Chicago
BEGIN:STANDARD
TZOFFSETFROM:-0500
TZOFFSETTO:-0600
DTSTART:20241103T070000
TZNAME:CST
END:STANDARD
END:VTIMEZONE
END:VCALENDAR
