BEGIN:VCALENDAR
VERSION:2.0
PRODID:-//Research Seminars//NONSGML Events//EN
CALSCALE:GREGORIAN
X-ORIGINAL-URL:https://calendar.med.wustl.edu/calendar/list/
X-WR-CALDESC:Research Seminars - Events
BEGIN:VEVENT
UID:20241105T2025Z-1730838316.1094-EO-32186-1@10.24.106.144
STATUS:CONFIRMED
DTSTAMP:20260424T164208Z
CREATED:20241105T202417Z
LAST-MODIFIED:20241112T180802Z
DTSTART;TZID=America/Chicago:20241212T100000
DTEND;TZID=America/Chicago:20241212T110000
SUMMARY: Vision Science Seminar
DESCRIPTION: Vision Science Seminar “Müller glia\, Autophagy and Immune Pri
 vilege” Presented by Thomas Ferguson\, PhD Professor\, Ophthalmology and Vi
 sual Sciences WUSTL
X-ALT-DESC;FMTTYPE=text/html: <h3 style="text-align: center\;">Vision Scien
 ce Seminar</h3><blockquote><p>"Müller glia\, Autophagy and Immune Privilege
 "</p></blockquote><p style="text-align: center\;">Presented by</p><p style=
 "text-align: center\;"><a href="https://ophthalmology.wustl.edu/people/thom
 as-ferguson-phd/">Thomas Ferguson\, PhD</a></p><p class="washu-ppi-descript
 ion" style="text-align: center\;">Professor\, Ophthalmology and Visual Scie
 nces</p><p style="text-align: center\;">WUSTL</p>
CATEGORIES:Seminars / Lectures
LOCATION:Mid-Campus Center (MCC)\, Room 1404
GEO:38.636224;-90.261931
ORGANIZER;CN="Marion":MAILTO:mariont@wustl.edu
URL;VALUE=URI:https://calendar.med.wustl.edu/calendar/event/vision-science-
 seminar-84/
END:VEVENT
BEGIN:VTIMEZONE
TZID:America/Chicago
BEGIN:STANDARD
TZOFFSETFROM:-0500
TZOFFSETTO:-0600
DTSTART:20241103T070000
TZNAME:CST
END:STANDARD
END:VTIMEZONE
END:VCALENDAR
