BEGIN:VCALENDAR
VERSION:2.0
PRODID:-//Research Seminars//NONSGML Events//EN
CALSCALE:GREGORIAN
X-ORIGINAL-URL:https://calendar.med.wustl.edu/calendar/list/
X-WR-CALDESC:Research Seminars - Events
BEGIN:VEVENT
UID:20241105T2043Z-1730839423.1328-EO-32187-1@10.24.106.144
STATUS:CONFIRMED
DTSTAMP:20260423T233002Z
CREATED:20241105T202638Z
LAST-MODIFIED:20241105T202638Z
DTSTART;TZID=America/Chicago:20241219T100000
DTEND;TZID=America/Chicago:20241219T110000
SUMMARY: Vision Science Seminar
DESCRIPTION: Vision Science Seminar Talk Title TBA Presented by Philip Ruzy
 cki\, PhD Assistant Professor\, Ophthalmology and Visual Sciences WUSTL
X-ALT-DESC;FMTTYPE=text/html: <h3 style="text-align: center\;">Vision Scien
 ce Seminar</h3><blockquote><p>Talk Title TBA</p></blockquote><p style="text
 -align: center\;">Presented by</p><p style="text-align: center\;"><a href="
 https://ophthalmology.wustl.edu/people/philip-ruzycki-phd/">Philip Ruzycki\
 , PhD</a><br />Assistant Professor\, Ophthalmology and Visual Sciences</p><
 p style="text-align: center\;">WUSTL</p>
CATEGORIES:Seminars / Lectures
ORGANIZER;CN="Marion":MAILTO:mariont@wustl.edu
URL;VALUE=URI:https://calendar.med.wustl.edu/calendar/event/vision-science-
 seminar-85/
END:VEVENT
BEGIN:VTIMEZONE
TZID:America/Chicago
BEGIN:STANDARD
TZOFFSETFROM:-0500
TZOFFSETTO:-0600
DTSTART:20241103T070000
TZNAME:CST
END:STANDARD
END:VTIMEZONE
END:VCALENDAR
