BEGIN:VCALENDAR
VERSION:2.0
PRODID:-//Research Seminars//NONSGML Events//EN
CALSCALE:GREGORIAN
X-ORIGINAL-URL:https://calendar.med.wustl.edu/calendar/list/
X-WR-CALDESC:Research Seminars - Events
BEGIN:VEVENT
UID:20241126T2205Z-1732658730.0554-EO-32246-1@10.24.106.144
STATUS:CONFIRMED
DTSTAMP:20260422T130245Z
CREATED:20241126T220217Z
LAST-MODIFIED:20241126T220217Z
DTSTART;TZID=America/Chicago:20250116T100000
DTEND;TZID=America/Chicago:20250116T110000
SUMMARY: Vision Science Seminar
DESCRIPTION: Vision Science Seminar Talk Title TBA Presented by Moe R. Mahj
 oub\, PhD Associate Professor of Medicine\, Division of Nephrology WUSTL   
   Join Zoom Meeting https://wustl-hipaa.zoom.us/j/99898404796?pwd=87Osuaqo2
 GzCxDSK9OFiiB7tXTmacv.1 Meeting ID: 998 9840 4796 Passcode: 153229
X-ALT-DESC;FMTTYPE=text/html: <h3 style="text-align: center\;">Vision Scien
 ce Seminar</h3><blockquote><p>Talk Title TBA</p></blockquote><p style="text
 -align: center\;">Presented by</p><p style="text-align: center\;"><a href="
 https://nephrology.wustl.edu/people/mohamed-r-mahjoub-phd/">Moe R. Mahjoub\
 , PhD</a><br />Associate Professor of Medicine\, Division of Nephrology</p>
 <p style="text-align: center\;">WUSTL</p><p> </p><p> </p><p>Join Zoom Meeti
 ng<br />https://wustl-hipaa.zoom.us/j/99898404796?pwd=87Osuaqo2GzCxDSK9OFii
 B7tXTmacv.1</p><p>Meeting ID: 998 9840 4796<br />Passcode: 153229</p>
CATEGORIES:Seminars / Lectures
LOCATION:MCC Building RM 1404
GEO:38.636228;-90.261900
ORGANIZER;CN="Marion":MAILTO:mariont@wustl.edu
URL;VALUE=URI:https://calendar.med.wustl.edu/calendar/event/vision-science-
 seminar-87/
END:VEVENT
BEGIN:VTIMEZONE
TZID:America/Chicago
BEGIN:STANDARD
TZOFFSETFROM:-0500
TZOFFSETTO:-0600
DTSTART:20241103T070000
TZNAME:CST
END:STANDARD
END:VTIMEZONE
END:VCALENDAR
