BEGIN:VCALENDAR
VERSION:2.0
PRODID:-//Research Seminars//NONSGML Events//EN
CALSCALE:GREGORIAN
X-ORIGINAL-URL:https://calendar.med.wustl.edu/calendar/list/
X-WR-CALDESC:Research Seminars - Events
BEGIN:VEVENT
UID:20241126T2229Z-1732660140.8788-EO-32247-1@10.24.106.144
STATUS:CONFIRMED
DTSTAMP:20260425T081259Z
CREATED:20241126T221839Z
LAST-MODIFIED:20241126T221839Z
DTSTART;TZID=America/Chicago:20250123T100000
DTEND;TZID=America/Chicago:20250123T110000
SUMMARY: Vision Science Seminar
DESCRIPTION: Vision Science Seminar Talk Title TBA Presented by Shin-ichiro
  Imai\, MD\, PhD Theodore and Bertha Bryan Distinguished Professor in Envir
 onmental Medicine WUSTL   Join Zoom Meeting https://wustl-hipaa.zoom.us/j/9
 9898404796?pwd=87Osuaqo2GzCxDSK9OFiiB7tXTmacv.1 Meeting ID: 998 9840 4796 P
 asscode: 153229
X-ALT-DESC;FMTTYPE=text/html: <h3 style="text-align: center\;">Vision Scien
 ce Seminar</h3><blockquote><p>Talk Title TBA</p></blockquote><p style="text
 -align: center\;">Presented by</p><p style="text-align: center\;"><a href="
 https://developmentalbiology.wustl.edu/people/shin-ichiro-imai/">Shin-ichir
 o Imai\, MD\, PhD</a></p><p style="text-align: center\;">Theodore and Berth
 a Bryan Distinguished Professor in Environmental Medicine</p><p style="text
 -align: center\;">WUSTL</p><p> </p><p>Join Zoom Meeting<br />https://wustl-
 hipaa.zoom.us/j/99898404796?pwd=87Osuaqo2GzCxDSK9OFiiB7tXTmacv.1</p><p>Meet
 ing ID: 998 9840 4796<br />Passcode: 153229</p>
LOCATION:MCC Building RM 1404
GEO:38.636228;-90.261900
ORGANIZER;CN="Marion":MAILTO:mariont@wustl.edu
URL;VALUE=URI:https://calendar.med.wustl.edu/calendar/event/vision-science-
 seminar-88/
END:VEVENT
BEGIN:VTIMEZONE
TZID:America/Chicago
BEGIN:STANDARD
TZOFFSETFROM:-0500
TZOFFSETTO:-0600
DTSTART:20241103T070000
TZNAME:CST
END:STANDARD
END:VTIMEZONE
END:VCALENDAR
