BEGIN:VCALENDAR
VERSION:2.0
PRODID:-//Research Seminars//NONSGML Events//EN
CALSCALE:GREGORIAN
X-ORIGINAL-URL:https://calendar.med.wustl.edu/calendar/list/
X-WR-CALDESC:Research Seminars - Events
BEGIN:VEVENT
UID:20220215T1916Z-1644952581.6391-EO-28178-1@172.23.128.18
STATUS:CONFIRMED
DTSTAMP:20260419T153543Z
CREATED:20220215T191458Z
LAST-MODIFIED:20220215T223127Z
DTSTART;TZID=America/Chicago:20220309T120000
DTEND;TZID=America/Chicago:20220309T130000
SUMMARY: BJC Investigator Program Seminar: Kathryn Wellen
DESCRIPTION: Title: TBD If you are unable to join in person\, you may join 
 via webinar: Please click the link below to join the webinar: Click to Join
  Hosted by Drs. Ben Garcia and Dave Piston
X-ALT-DESC;FMTTYPE=text/html: <p>Title: TBD</p><p>If you are unable to join
  in person\, you may join via webinar:<br />Please click the link below to 
 join the webinar:<br /><a href="https://wustl-hipaa.zoom.us/j/91042537013?p
 wd=K0JRWWFONmVrNWczZ2NlV2JEbFBqUT09">Click to Join</a></p><p>Hosted by Drs.
  Ben Garcia and Dave Piston</p>
CATEGORIES:Seminars / Lectures
LOCATION:Eric P. Newman Education Center\, Seminar Room B
GEO:38.636891;-90.262391
ORGANIZER;CN="Amy":MAILTO:asmith41@wustl.edu
URL;VALUE=URI:https://calendar.med.wustl.edu/calendar/event/wellen/
END:VEVENT
BEGIN:VTIMEZONE
TZID:America/Chicago
BEGIN:STANDARD
TZOFFSETFROM:-0500
TZOFFSETTO:-0600
DTSTART:20211107T070000
TZNAME:CST
END:STANDARD
END:VTIMEZONE
END:VCALENDAR
